Package: EDIRquery Version: 1.11.0 Command: /Library/Frameworks/R.framework/Resources/bin/R CMD INSTALL EDIRquery StartedAt: 2025-11-13 15:15:41 -0500 (Thu, 13 Nov 2025) EndedAt: 2025-11-13 15:15:51 -0500 (Thu, 13 Nov 2025) EllapsedTime: 10.3 seconds RetCode: 0 Status: OK