Package: EDIRquery Version: 1.11.0 Command: rm -rf EDIRquery.buildbin-libdir && mkdir EDIRquery.buildbin-libdir && /Users/biocbuild/BBS/utils/build-universal.sh EDIRquery_1.11.0.tar.gz /Library/Frameworks/R.framework/Resources/bin/R EDIRquery.buildbin-libdir StartedAt: 2025-11-13 23:36:29 -0500 (Thu, 13 Nov 2025) EndedAt: 2025-11-13 23:36:41 -0500 (Thu, 13 Nov 2025) EllapsedTime: 12.3 seconds RetCode: 0 Status: OK PackageFile: EDIRquery_1.11.0.tgz PackageFileSize: 1.625 MiB