Package: EDASeq Version: 2.45.0 Command: /home/biocbuild/bbs-3.23-bioc/R/bin/R CMD INSTALL EDASeq StartedAt: 2025-11-14 15:52:50 -0500 (Fri, 14 Nov 2025) EndedAt: 2025-11-14 15:53:31 -0500 (Fri, 14 Nov 2025) EllapsedTime: 41.2 seconds RetCode: 0 Status: OK