Package: EDASeq Version: 2.45.0 Command: /Library/Frameworks/R.framework/Resources/bin/R CMD INSTALL EDASeq StartedAt: 2025-11-14 15:27:13 -0500 (Fri, 14 Nov 2025) EndedAt: 2025-11-14 15:27:30 -0500 (Fri, 14 Nov 2025) EllapsedTime: 16.7 seconds RetCode: 0 Status: OK