Package: EDASeq Version: 2.45.0 Command: /Library/Frameworks/R.framework/Resources/bin/R CMD build --keep-empty-dirs --no-resave-data EDASeq StartedAt: 2025-11-14 16:15:42 -0500 (Fri, 14 Nov 2025) EndedAt: 2025-11-14 16:16:14 -0500 (Fri, 14 Nov 2025) EllapsedTime: 32.4 seconds RetCode: 0 Status: OK PackageFile: EDASeq_2.45.0.tar.gz PackageFileSize: 1.087 MiB