Package: EDASeq Version: 2.45.0 Command: rm -rf EDASeq.buildbin-libdir && mkdir EDASeq.buildbin-libdir && /Users/biocbuild/BBS/utils/build-universal.sh EDASeq_2.45.0.tar.gz /Library/Frameworks/R.framework/Resources/bin/R EDASeq.buildbin-libdir StartedAt: 2025-11-14 23:31:32 -0500 (Fri, 14 Nov 2025) EndedAt: 2025-11-14 23:31:53 -0500 (Fri, 14 Nov 2025) EllapsedTime: 20.5 seconds RetCode: 0 Status: OK PackageFile: EDASeq_2.45.0.tgz PackageFileSize: 1.333 MiB