Package: EBcoexpress Version: 1.55.0 Command: /home/biocbuild/bbs-3.23-bioc/R/bin/R CMD INSTALL EBcoexpress StartedAt: 2025-11-16 15:14:10 -0500 (Sun, 16 Nov 2025) EndedAt: 2025-11-16 15:14:16 -0500 (Sun, 16 Nov 2025) EllapsedTime: 6.0 seconds RetCode: 0 Status: OK