Package: EBSeq Version: 2.9.0 Command: /home/biocbuild/bbs-3.23-bioc/R/bin/R CMD INSTALL EBSeq StartedAt: 2025-11-23 15:11:19 -0500 (Sun, 23 Nov 2025) EndedAt: 2025-11-23 15:12:00 -0500 (Sun, 23 Nov 2025) EllapsedTime: 41.1 seconds RetCode: 0 Status: OK