Package: EBSeq Version: 2.9.0 Command: /home/biocbuild/bbs-3.23-bioc/R/bin/R CMD build --keep-empty-dirs --no-resave-data EBSeq StartedAt: 2025-11-23 17:26:56 -0500 (Sun, 23 Nov 2025) EndedAt: 2025-11-23 17:26:58 -0500 (Sun, 23 Nov 2025) EllapsedTime: 2.0 seconds RetCode: 0 Status: OK PackageFile: EBSeq_2.9.0.tar.gz PackageFileSize: 1.069 MiB