Package: EBSeq Version: 2.9.0 Command: /Library/Frameworks/R.framework/Resources/bin/R CMD INSTALL EBSeq StartedAt: 2025-11-14 15:06:25 -0500 (Fri, 14 Nov 2025) EndedAt: 2025-11-14 15:06:33 -0500 (Fri, 14 Nov 2025) EllapsedTime: 8.4 seconds RetCode: 0 Status: OK