Package: EBSeq Version: 2.9.0 Command: /Library/Frameworks/R.framework/Resources/bin/R CMD build --keep-empty-dirs --no-resave-data EBSeq StartedAt: 2025-11-14 16:15:32 -0500 (Fri, 14 Nov 2025) EndedAt: 2025-11-14 16:15:33 -0500 (Fri, 14 Nov 2025) EllapsedTime: 1.0 seconds RetCode: 0 Status: OK PackageFile: EBSeq_2.9.0.tar.gz PackageFileSize: 1.069 MiB