Package: EBSeq Version: 2.9.0 Command: rm -rf EBSeq.buildbin-libdir && mkdir EBSeq.buildbin-libdir && /Users/biocbuild/BBS/utils/build-universal.sh EBSeq_2.9.0.tar.gz /Library/Frameworks/R.framework/Resources/bin/R EBSeq.buildbin-libdir StartedAt: 2025-11-14 23:31:30 -0500 (Fri, 14 Nov 2025) EndedAt: 2025-11-14 23:31:42 -0500 (Fri, 14 Nov 2025) EllapsedTime: 11.3 seconds RetCode: 0 Status: OK PackageFile: EBSeq_2.9.0.tgz PackageFileSize: 1.171 MiB