Package: DynDoc Version: 1.89.0 Command: /home/biocbuild/bbs-3.23-bioc/R/bin/R CMD INSTALL DynDoc StartedAt: 2025-11-11 15:06:26 -0500 (Tue, 11 Nov 2025) EndedAt: 2025-11-11 15:06:32 -0500 (Tue, 11 Nov 2025) EllapsedTime: 6.1 seconds RetCode: 0 Status: OK