Package: DynDoc Version: 1.89.0 Command: /home/biocbuild/bbs-3.23-bioc/R/bin/R CMD check --install=check:DynDoc.install-out.txt --library=/home/biocbuild/bbs-3.23-bioc/R/site-library --timings DynDoc_1.89.0.tar.gz StartedAt: 2025-11-14 23:12:55 -0500 (Fri, 14 Nov 2025) EndedAt: 2025-11-14 23:13:12 -0500 (Fri, 14 Nov 2025) EllapsedTime: 17.0 seconds RetCode: 0 Status: WARNINGS CheckDir: DynDoc.Rcheck Warnings: 1