Package: DynDoc Version: 1.89.0 Command: /Library/Frameworks/R.framework/Resources/bin/R CMD build --keep-empty-dirs --no-resave-data DynDoc StartedAt: 2025-11-14 16:14:53 -0500 (Fri, 14 Nov 2025) EndedAt: 2025-11-14 16:14:54 -0500 (Fri, 14 Nov 2025) EllapsedTime: 1.0 seconds RetCode: 0 Status: OK PackageFile: DynDoc_1.89.0.tar.gz PackageFileSize: 10.96 KiB