Package: DynDoc Version: 1.89.0 Command: rm -rf DynDoc.buildbin-libdir && mkdir DynDoc.buildbin-libdir && /Users/biocbuild/BBS/utils/build-universal.sh DynDoc_1.89.0.tar.gz /Library/Frameworks/R.framework/Resources/bin/R DynDoc.buildbin-libdir StartedAt: 2025-11-14 23:31:21 -0500 (Fri, 14 Nov 2025) EndedAt: 2025-11-14 23:31:24 -0500 (Fri, 14 Nov 2025) EllapsedTime: 3.1 seconds RetCode: 0 Status: OK PackageFile: DynDoc_1.89.0.tgz PackageFileSize: 218.9 KiB