Package: DuplexDiscovereR Version: 1.5.0 Command: /home/biocbuild/bbs-3.23-bioc/R/bin/R CMD INSTALL DuplexDiscovereR StartedAt: 2025-11-13 15:48:16 -0500 (Thu, 13 Nov 2025) EndedAt: 2025-11-13 15:49:46 -0500 (Thu, 13 Nov 2025) EllapsedTime: 90.3 seconds RetCode: 0 Status: OK