Package: DuplexDiscovereR Version: 1.5.0 Command: /home/biocbuild/bbs-3.23-bioc/R/bin/R CMD build --keep-empty-dirs --no-resave-data DuplexDiscovereR StartedAt: 2025-11-13 17:24:05 -0500 (Thu, 13 Nov 2025) EndedAt: 2025-11-13 17:26:10 -0500 (Thu, 13 Nov 2025) EllapsedTime: 125.1 seconds RetCode: 0 Status: OK PackageFile: DuplexDiscovereR_1.5.0.tar.gz PackageFileSize: 1015 KiB