Package: DuplexDiscovereR Version: 1.5.0 Command: /Library/Frameworks/R.framework/Resources/bin/R CMD INSTALL DuplexDiscovereR StartedAt: 2025-11-13 15:26:31 -0500 (Thu, 13 Nov 2025) EndedAt: 2025-11-13 15:27:08 -0500 (Thu, 13 Nov 2025) EllapsedTime: 36.3 seconds RetCode: 0 Status: OK