Package: DuplexDiscovereR Version: 1.5.0 Command: /Library/Frameworks/R.framework/Resources/bin/R CMD build --keep-empty-dirs --no-resave-data DuplexDiscovereR StartedAt: 2025-11-13 16:17:53 -0500 (Thu, 13 Nov 2025) EndedAt: 2025-11-13 16:18:54 -0500 (Thu, 13 Nov 2025) EllapsedTime: 60.7 seconds RetCode: 0 Status: OK PackageFile: DuplexDiscovereR_1.5.0.tar.gz PackageFileSize: 998.5 KiB