Package: DuplexDiscovereR Version: 1.5.0 Command: rm -rf DuplexDiscovereR.buildbin-libdir && mkdir DuplexDiscovereR.buildbin-libdir && /Users/biocbuild/BBS/utils/build-universal.sh DuplexDiscovereR_1.5.0.tar.gz /Library/Frameworks/R.framework/Resources/bin/R DuplexDiscovereR.buildbin-libdir StartedAt: 2025-11-12 20:56:32 -0500 (Wed, 12 Nov 2025) EndedAt: 2025-11-12 20:57:15 -0500 (Wed, 12 Nov 2025) EllapsedTime: 43.0 seconds RetCode: 0 Status: OK PackageFile: DuplexDiscovereR_1.5.0.tgz PackageFileSize: 1.556 MiB