Package: DuplexDiscovereR Version: 1.5.0 Maintainer: Egor Semenchenko MaintainerEmail: yegor.smb at gmail.com git_url: https://git.bioconductor.org/packages/DuplexDiscovereR git_branch: devel git_last_commit: 4cdae86 git_last_commit_date: 2025-10-29 11:32:35 -0500 (Wed, 29 Oct 2025)