Package: DspikeIn Version: 1.1.0 Command: /home/biocbuild/bbs-3.23-bioc/R/bin/R CMD build --keep-empty-dirs --no-resave-data DspikeIn StartedAt: 2025-11-14 17:23:48 -0500 (Fri, 14 Nov 2025) EndedAt: 2025-11-14 17:28:23 -0500 (Fri, 14 Nov 2025) EllapsedTime: 275.3 seconds RetCode: 0 Status: OK PackageFile: DspikeIn_1.1.0.tar.gz PackageFileSize: 4.324 MiB