Package: DspikeIn Version: 1.1.0 Command: /Library/Frameworks/R.framework/Resources/bin/R CMD INSTALL DspikeIn StartedAt: 2025-11-12 15:36:23 -0500 (Wed, 12 Nov 2025) EndedAt: 2025-11-12 15:36:24 -0500 (Wed, 12 Nov 2025) EllapsedTime: 1.1 seconds RetCode: 1 Status: ERROR