Package: DropletUtils Version: 1.31.0 Command: /Library/Frameworks/R.framework/Resources/bin/R CMD build --keep-empty-dirs --no-resave-data DropletUtils StartedAt: 2025-11-13 16:17:10 -0500 (Thu, 13 Nov 2025) EndedAt: 2025-11-13 16:17:46 -0500 (Thu, 13 Nov 2025) EllapsedTime: 36.4 seconds RetCode: 0 Status: OK PackageFile: DropletUtils_1.31.0.tar.gz PackageFileSize: 620 KiB