############################################################################## ############################################################################## ### ### Running command: ### ### /Library/Frameworks/R.framework/Resources/bin/R CMD build --keep-empty-dirs --no-resave-data DropletUtils ### ############################################################################## ############################################################################## * checking for file ‘DropletUtils/DESCRIPTION’ ... OK * preparing ‘DropletUtils’: * checking DESCRIPTION meta-information ... OK * cleaning src * installing the package (it is needed to build vignettes) ----------------------------------- ERROR: dependencies ‘HDF5Array’, ‘rhdf5’, ‘edgeR’, ‘Rhdf5lib’ are not available for package ‘DropletUtils’ Perhaps try a variation of: install.packages(c('HDF5Array', 'rhdf5', 'edgeR', 'Rhdf5lib')) * removing ‘/private/var/folders/r0/l4fjk6cj5xj0j3brt4bplpl40000gt/T/RtmpsPU0yv/Rinst49126babd39f/DropletUtils’ ----------------------------------- ERROR: package installation failed