Package: DriverNet Version: 1.51.0 Command: /home/biocbuild/bbs-3.23-bioc/R/bin/R CMD build --keep-empty-dirs --no-resave-data DriverNet StartedAt: 2025-11-11 17:25:54 -0500 (Tue, 11 Nov 2025) EndedAt: 2025-11-11 17:26:28 -0500 (Tue, 11 Nov 2025) EllapsedTime: 34.0 seconds RetCode: 0 Status: OK PackageFile: DriverNet_1.51.0.tar.gz PackageFileSize: 1.116 MiB