Package: DriverNet Version: 1.51.0 Command: /Library/Frameworks/R.framework/Resources/bin/R CMD INSTALL DriverNet StartedAt: 2025-11-12 15:17:09 -0500 (Wed, 12 Nov 2025) EndedAt: 2025-11-12 15:17:20 -0500 (Wed, 12 Nov 2025) EllapsedTime: 10.4 seconds RetCode: 0 Status: OK