Package: DriverNet Version: 1.51.0 Command: /Library/Frameworks/R.framework/Resources/bin/R CMD build --keep-empty-dirs --no-resave-data DriverNet StartedAt: 2025-11-12 16:10:36 -0500 (Wed, 12 Nov 2025) EndedAt: 2025-11-12 16:10:51 -0500 (Wed, 12 Nov 2025) EllapsedTime: 15.2 seconds RetCode: 0 Status: OK PackageFile: DriverNet_1.51.0.tar.gz PackageFileSize: 1.116 MiB