Package: DriverNet Version: 1.51.0 Command: rm -rf DriverNet.buildbin-libdir && mkdir DriverNet.buildbin-libdir && /Users/biocbuild/BBS/utils/build-universal.sh DriverNet_1.51.0.tar.gz /Library/Frameworks/R.framework/Resources/bin/R DriverNet.buildbin-libdir StartedAt: 2025-11-12 20:56:30 -0500 (Wed, 12 Nov 2025) EndedAt: 2025-11-12 20:56:32 -0500 (Wed, 12 Nov 2025) EllapsedTime: 2.1 seconds RetCode: 0 Status: OK PackageFile: DriverNet_1.51.0.tgz PackageFileSize: 1.173 MiB