Package: DriverNet Version: 1.51.0 Maintainer: Jiarui Ding MaintainerEmail: jiaruid at cs.ubc.ca git_url: https://git.bioconductor.org/packages/DriverNet git_branch: devel git_last_commit: 9b4f20e git_last_commit_date: 2025-10-29 10:12:58 -0500 (Wed, 29 Oct 2025)