Package: Doscheda Version: 1.33.0 Command: /Library/Frameworks/R.framework/Resources/bin/R CMD INSTALL Doscheda StartedAt: 2025-11-19 15:09:21 -0500 (Wed, 19 Nov 2025) EndedAt: 2025-11-19 15:09:28 -0500 (Wed, 19 Nov 2025) EllapsedTime: 6.6 seconds RetCode: 0 Status: OK