Package: Doscheda Version: 1.33.0 Command: /Library/Frameworks/R.framework/Resources/bin/R CMD build --keep-empty-dirs --no-resave-data Doscheda StartedAt: 2025-11-19 16:14:30 -0500 (Wed, 19 Nov 2025) EndedAt: 2025-11-19 16:15:05 -0500 (Wed, 19 Nov 2025) EllapsedTime: 34.4 seconds RetCode: 0 Status: OK PackageFile: Doscheda_1.33.0.tar.gz PackageFileSize: 3.853 MiB