Package: Doscheda Version: 1.33.0 Command: rm -rf Doscheda.buildbin-libdir && mkdir Doscheda.buildbin-libdir && /Users/biocbuild/BBS/utils/build-universal.sh Doscheda_1.33.0.tar.gz /Library/Frameworks/R.framework/Resources/bin/R Doscheda.buildbin-libdir StartedAt: 2025-11-19 23:32:16 -0500 (Wed, 19 Nov 2025) EndedAt: 2025-11-19 23:32:24 -0500 (Wed, 19 Nov 2025) EllapsedTime: 8.1 seconds RetCode: 0 Status: OK PackageFile: Doscheda_1.33.0.tgz PackageFileSize: 4.537 MiB