Package: DiscoRhythm Version: 1.27.0 Command: /Library/Frameworks/R.framework/Resources/bin/R CMD INSTALL DiscoRhythm StartedAt: 2025-11-14 15:11:50 -0500 (Fri, 14 Nov 2025) EndedAt: 2025-11-14 15:12:02 -0500 (Fri, 14 Nov 2025) EllapsedTime: 11.4 seconds RetCode: 0 Status: OK