Package: DiscoRhythm Version: 1.27.0 Command: /Library/Frameworks/R.framework/Resources/bin/R CMD build --keep-empty-dirs --no-resave-data DiscoRhythm StartedAt: 2025-11-14 16:11:20 -0500 (Fri, 14 Nov 2025) EndedAt: 2025-11-14 16:11:40 -0500 (Fri, 14 Nov 2025) EllapsedTime: 20.2 seconds RetCode: 0 Status: OK PackageFile: DiscoRhythm_1.27.0.tar.gz PackageFileSize: 2.522 MiB