Package: DiscoRhythm Version: 1.27.0 Command: rm -rf DiscoRhythm.buildbin-libdir && mkdir DiscoRhythm.buildbin-libdir && /Users/biocbuild/BBS/utils/build-universal.sh DiscoRhythm_1.27.0.tar.gz /Library/Frameworks/R.framework/Resources/bin/R DiscoRhythm.buildbin-libdir StartedAt: 2025-11-14 23:30:41 -0500 (Fri, 14 Nov 2025) EndedAt: 2025-11-14 23:30:56 -0500 (Fri, 14 Nov 2025) EllapsedTime: 14.5 seconds RetCode: 0 Status: OK PackageFile: DiscoRhythm_1.27.0.tgz PackageFileSize: 1.915 MiB