Package: DirichletMultinomial Version: 1.53.0 Command: /home/biocbuild/bbs-3.23-bioc/R/bin/R CMD INSTALL DirichletMultinomial StartedAt: 2025-11-13 15:14:16 -0500 (Thu, 13 Nov 2025) EndedAt: 2025-11-13 15:14:24 -0500 (Thu, 13 Nov 2025) EllapsedTime: 7.8 seconds RetCode: 0 Status: OK