Package: DirichletMultinomial Version: 1.53.0 Command: /home/biocbuild/bbs-3.23-bioc/R/bin/R CMD build --keep-empty-dirs --no-resave-data DirichletMultinomial StartedAt: 2025-11-13 17:18:30 -0500 (Thu, 13 Nov 2025) EndedAt: 2025-11-13 17:18:46 -0500 (Thu, 13 Nov 2025) EllapsedTime: 16.0 seconds RetCode: 0 Status: OK PackageFile: DirichletMultinomial_1.53.0.tar.gz PackageFileSize: 1.06 MiB