Package: DirichletMultinomial Version: 1.53.0 Command: /Library/Frameworks/R.framework/Resources/bin/R CMD INSTALL DirichletMultinomial StartedAt: 2025-11-12 15:22:58 -0500 (Wed, 12 Nov 2025) EndedAt: 2025-11-12 15:23:01 -0500 (Wed, 12 Nov 2025) EllapsedTime: 3.2 seconds RetCode: 0 Status: OK