Package: DirichletMultinomial Version: 1.53.0 Command: rm -rf DirichletMultinomial.buildbin-libdir && mkdir DirichletMultinomial.buildbin-libdir && /Users/biocbuild/BBS/utils/build-universal.sh DirichletMultinomial_1.53.0.tar.gz /Library/Frameworks/R.framework/Resources/bin/R DirichletMultinomial.buildbin-libdir StartedAt: 2025-11-13 23:35:33 -0500 (Thu, 13 Nov 2025) EndedAt: 2025-11-13 23:35:39 -0500 (Thu, 13 Nov 2025) EllapsedTime: 6.1 seconds RetCode: 0 Status: OK PackageFile: DirichletMultinomial_1.53.0.tgz PackageFileSize: 1.445 MiB