Package: DifferentialRegulation Version: 2.9.0 Command: /home/biocbuild/bbs-3.23-bioc/R/bin/R CMD build --keep-empty-dirs --no-resave-data DifferentialRegulation StartedAt: 2025-11-13 17:17:19 -0500 (Thu, 13 Nov 2025) EndedAt: 2025-11-13 17:20:23 -0500 (Thu, 13 Nov 2025) EllapsedTime: 184.1 seconds RetCode: 0 Status: OK PackageFile: DifferentialRegulation_2.9.0.tar.gz PackageFileSize: 3.119 MiB