Package: DifferentialRegulation Version: 2.9.0 Command: /Library/Frameworks/R.framework/Resources/bin/R CMD INSTALL DifferentialRegulation StartedAt: 2025-11-13 15:19:57 -0500 (Thu, 13 Nov 2025) EndedAt: 2025-11-13 15:20:15 -0500 (Thu, 13 Nov 2025) EllapsedTime: 18.0 seconds RetCode: 0 Status: OK