Package: DifferentialRegulation Version: 2.9.0 Command: /Library/Frameworks/R.framework/Resources/bin/R CMD build --keep-empty-dirs --no-resave-data DifferentialRegulation StartedAt: 2025-11-13 16:13:15 -0500 (Thu, 13 Nov 2025) EndedAt: 2025-11-13 16:14:26 -0500 (Thu, 13 Nov 2025) EllapsedTime: 70.8 seconds RetCode: 0 Status: OK PackageFile: DifferentialRegulation_2.9.0.tar.gz PackageFileSize: 2.821 MiB