Package: DifferentialRegulation Version: 2.9.0 Maintainer: Simone Tiberi MaintainerEmail: simone.tiberi at unibo.it git_url: https://git.bioconductor.org/packages/DifferentialRegulation git_branch: devel git_last_commit: e4187ce git_last_commit_date: 2025-10-29 11:16:49 -0500 (Wed, 29 Oct 2025)