Package: DiffLogo Version: 2.35.0 Command: /Library/Frameworks/R.framework/Resources/bin/R CMD build --keep-empty-dirs --no-resave-data DiffLogo StartedAt: 2025-11-13 16:13:32 -0500 (Thu, 13 Nov 2025) EndedAt: 2025-11-13 16:13:53 -0500 (Thu, 13 Nov 2025) EllapsedTime: 21.2 seconds RetCode: 0 Status: OK PackageFile: DiffLogo_2.35.0.tar.gz PackageFileSize: 919.9 KiB