Package: DiffLogo Version: 2.35.0 Command: rm -rf DiffLogo.buildbin-libdir && mkdir DiffLogo.buildbin-libdir && /Users/biocbuild/BBS/utils/build-universal.sh DiffLogo_2.35.0.tar.gz /Library/Frameworks/R.framework/Resources/bin/R DiffLogo.buildbin-libdir StartedAt: 2025-11-13 23:35:29 -0500 (Thu, 13 Nov 2025) EndedAt: 2025-11-13 23:35:33 -0500 (Thu, 13 Nov 2025) EllapsedTime: 3.1 seconds RetCode: 0 Status: OK PackageFile: DiffLogo_2.35.0.tgz PackageFileSize: 1.063 MiB