Package: DiffBind Version: 3.21.0 Command: /Library/Frameworks/R.framework/Resources/bin/R CMD INSTALL DiffBind StartedAt: 2025-11-13 15:30:05 -0500 (Thu, 13 Nov 2025) EndedAt: 2025-11-13 15:30:34 -0500 (Thu, 13 Nov 2025) EllapsedTime: 28.9 seconds RetCode: 0 Status: OK