Package: DiffBind Version: 3.21.0 Command: /Library/Frameworks/R.framework/Resources/bin/R CMD build --keep-empty-dirs --no-resave-data DiffBind StartedAt: 2025-11-13 16:13:01 -0500 (Thu, 13 Nov 2025) EndedAt: 2025-11-13 16:14:22 -0500 (Thu, 13 Nov 2025) EllapsedTime: 80.9 seconds RetCode: 0 Status: OK PackageFile: DiffBind_3.21.0.tar.gz PackageFileSize: 6.486 MiB