Package: DelayedTensor Version: 1.17.0 Command: /Library/Frameworks/R.framework/Resources/bin/R CMD INSTALL DelayedTensor StartedAt: 2025-11-14 15:30:09 -0500 (Fri, 14 Nov 2025) EndedAt: 2025-11-14 15:30:24 -0500 (Fri, 14 Nov 2025) EllapsedTime: 14.4 seconds RetCode: 0 Status: OK